View In:
ArcGIS JavaScript
ArcGIS Online Map Viewer
ArcGIS Earth
Service Description: IGS Historical Map Collection
Name: IGS_Historical_Map_Collection/Mosaic_Master
Description: IGS Historical Map Collection
Single Fused Map Cache: false
Extent:
XMin: -9814005.5079
YMin: 4544108.323072961
XMax: -9350836.788442606
YMax: 5160998.938100003
Spatial Reference: 102100
(3857)
Initial Extent:
XMin: -9814005.5079
YMin: 4544108.323072961
XMax: -9350836.788442606
YMax: 5160998.938100003
Spatial Reference: 102100
(3857)
Full Extent:
XMin: -9814005.5079
YMin: 4544108.323072961
XMax: -9350836.788442606
YMax: 5160998.938100003
Spatial Reference: 102100
(3857)
Time Info:
Start Time Field: Start_Time
End Time Field: Start_Time
Time Extent:
[1869/01/01 00:00:00 UTC, 2016/01/01 00:00:00 UTC]
Time Reference:
N/A
Pixel Size X: 1.671980591360105
Pixel Size Y: 1.6719805913601062
Band Count: 3
Pixel Type: U8
RasterFunction Infos: {"rasterFunctionInfos": [{
"name": "None",
"description": "A No-Op Function.",
"help": ""
}]}
Mensuration Capabilities: Basic
Has Histograms: false
Has Colormap: false
Has Multi Dimensions : false
Rendering Rule:
Min Scale: 0
Max Scale: 0
Copyright Text:
Service Data Type: esriImageServiceDataTypeRGB
Min Values: N/A
Max Values: N/A
Mean Values: N/A
Standard Deviation Values: N/A
Object ID Field: OBJECTID
Fields:
-
OBJECTID
(
type: esriFieldTypeOID, alias: OBJECTID
)
-
Shape
(
type: esriFieldTypeGeometry, alias: Shape
)
-
Name
(
type: esriFieldTypeString, alias: Name, length: 200
)
-
Category
(
type: esriFieldTypeInteger, alias: Category
, Coded Values:
[0: Unknown]
, [1: Primary]
, [2: Overview]
, ...5 more...
)
-
ZOrder
(
type: esriFieldTypeInteger, alias: ZOrder
)
-
Scan_Id
(
type: esriFieldTypeString, alias: Scan_Id, length: 255
)
-
Year_to_Display
(
type: esriFieldTypeString, alias: Year to Display, length: 10
)
-
Map_Scale
(
type: esriFieldTypeInteger, alias: Map Scale
)
-
Notes
(
type: esriFieldTypeString, alias: Notes, length: 255
)
-
bookstoreURL
(
type: esriFieldTypeString, alias: Bookstore URL, length: 255
)
-
Author
(
type: esriFieldTypeString, alias: Author, length: 255
)
-
orderNum
(
type: esriFieldTypeString, alias: IGS Order Number, length: 100
)
-
igsSeriesType
(
type: esriFieldTypeString, alias: IGS Series Type, length: 50
)
-
Citation
(
type: esriFieldTypeString, alias: Citation, length: 355
)
-
Name_on_Map
(
type: esriFieldTypeString, alias: Name on Map, length: 255
)
-
igsItemID
(
type: esriFieldTypeInteger, alias: igs Item ID
)
-
Year_on_Map
(
type: esriFieldTypeInteger, alias: Year on Map
)
-
Start_Time
(
type: esriFieldTypeDate, alias: Start_Time, length: 8
)
Default Mosaic Method: ByAttribute
Allowed Mosaic Methods: ByAttribute,LockRaster
SortField: ZOrder
SortValue: 0
Mosaic Operator: First
Default Compression Quality: 85
Default Resampling Method: Bilinear
Max Record Count: 1000
Max Image Height: 4100
Max Image Width: 15000
Max Download Image Count: 20
Max Mosaic Image Count: 20
Allow Raster Function: true
Allow Copy: true
Allow Analysis: true
Allow Compute TiePoints: false
Supports Statistics: true
Supports Advanced Queries: true
Use StandardizedQueries: true
Raster Type Infos:
Name: Raster Dataset
Description: Supports all ArcGIS Raster Datasets
Help:
Has Raster Attribute Table: false
Edit Fields Info: null
Ownership Based AccessControl For Rasters: null
Child Resources:
Info
Statistics
Key Properties
Legend
Raster Function Infos
Supported Operations:
Export Image
Query
Identify
Measure
Compute Histograms
Compute Statistics Histograms
Get Samples
Compute Class Statistics
Query Boundary
Compute Pixel Location
Compute Angles
Validate
Project